BEGIN:VCALENDAR
VERSION:2.0
PRODID:-//Paths to Christ Consciousness - ECPv6.15.12.2//NONSGML v1.0//EN
CALSCALE:GREGORIAN
METHOD:PUBLISH
X-WR-CALNAME:Paths to Christ Consciousness
X-ORIGINAL-URL:https://staging.paths-to-christ.org
X-WR-CALDESC:Events for Paths to Christ Consciousness
REFRESH-INTERVAL;VALUE=DURATION:PT1H
X-Robots-Tag:noindex
X-PUBLISHED-TTL:PT1H
BEGIN:VTIMEZONE
TZID:Europe/Berlin
BEGIN:DAYLIGHT
TZOFFSETFROM:+0100
TZOFFSETTO:+0200
TZNAME:CEST
DTSTART:20220327T010000
END:DAYLIGHT
BEGIN:STANDARD
TZOFFSETFROM:+0200
TZOFFSETTO:+0100
TZNAME:CET
DTSTART:20221030T010000
END:STANDARD
BEGIN:DAYLIGHT
TZOFFSETFROM:+0100
TZOFFSETTO:+0200
TZNAME:CEST
DTSTART:20230326T010000
END:DAYLIGHT
BEGIN:STANDARD
TZOFFSETFROM:+0200
TZOFFSETTO:+0100
TZNAME:CET
DTSTART:20231029T010000
END:STANDARD
BEGIN:DAYLIGHT
TZOFFSETFROM:+0100
TZOFFSETTO:+0200
TZNAME:CEST
DTSTART:20240331T010000
END:DAYLIGHT
BEGIN:STANDARD
TZOFFSETFROM:+0200
TZOFFSETTO:+0100
TZNAME:CET
DTSTART:20241027T010000
END:STANDARD
BEGIN:DAYLIGHT
TZOFFSETFROM:+0100
TZOFFSETTO:+0200
TZNAME:CEST
DTSTART:20250330T010000
END:DAYLIGHT
BEGIN:STANDARD
TZOFFSETFROM:+0200
TZOFFSETTO:+0100
TZNAME:CET
DTSTART:20251026T010000
END:STANDARD
END:VTIMEZONE
BEGIN:VEVENT
DTSTART;TZID=Europe/Berlin:20240405T170000
DTEND;TZID=Europe/Berlin:20240407T150000
DTSTAMP:20260422T041153
CREATED:20231229T111333Z
LAST-MODIFIED:20240101T195650Z
UID:10000564-1712336400-1712502000@staging.paths-to-christ.org
SUMMARY:Awakening\, Nurturing & Embodying Christ Within
DESCRIPTION:Dear Friends\, \nI am very pleased to invite you to participate in the next Weekend Retreat\nAwakening\, Nurturing & Embodying Christ Within\, April 5th – 7th 2024. \nIn this retreat we will further explore and experience the Awakening\, Nurturing and Embodying of the Essence of Christ in more expansive levels of experience. We will align and combine these aspects to lead us into Presence with Christ Consciousness. \nWith loose structure\, we will allow ourselves to be guided through this time together and be open and willing to receive and accept the experiences that lay waiting for us as gifts\, both as a group and individually. \nIt promises to be an expansive and intensive experience and i very much look forward to this event and how it unfolds for us. \nLocation\nDuring this weekend\, we will find ourselves in the loving and caring hands of our Sister Marloe\, at her Center for Happiness in Lageweg 22\, 8101 NM Raalte\, The Netherlands.  Map \nHere are some photos of this beautiful location: \n\n			\n				\n			\n			\n				\n			\n			\n				\n			\n			\n				\n			\n			\n				\n			\n			\n				\n			\n		\n\nCost Retreat\nThe cost for the retreat is 395€ per person\, which includes all meals drinks and snacks. \nAccomodation\nMarloe has an option on some rooms in Hotel Inn Salland in nearby Raalte (2\,5km).\nThere are 3 single rooms available\, the rest are double rooms\, for either shared or single occupancy.\nCheck-in from 3 pm\, check out no later than 11 am.\nFor those travelling by train\, there will be enough cars going from the hotel to the retreat center every day to transport everyone. \nPlease find below the room rates including VAT\, including residence tax\, including 5% group discount and excluding breakfast. We will share breakfast at the center\, so no need for breakfast at the hotel. \nRoom rates\, per person\, for 2 nights:\nSingle room € 176\,-\nDouble room\, single occupancy € 212\,-\nDouble room\, shared € 108\,- \nRegsiter\nTo register please just send me an email with your registration and your 1st and 2nd room preferences.\nThe three single rooms will go to the first three who book them\, so if you request a single\, please let us know which would be your second preference if all singles are booked. Thank you. \nNumber of participants\nThe number of places available on this retreat is 15.\nI hope this allows everyone who wishes to participate to come. \nIf there are any questions\, please send me a message per email and i will happily answer them for you. \nI very much look forward to spending time with you again. \nMuch Love\nPaul \nTestimonials:\nWould you like to read how others describe their experience of our last retreat in Loenen?\nPlease find below a selection of feedback from Ineke\, Hetty and Henk. \n“\n… I would like to share my reflections upon the weekend. When I think back to it all sweet memories come back in my mind. It feels like a warm bath and I feel the vibrations resonating in my body. And immediately a smile appears on my face. It was in every way a wonderful weekend which I will never forget. \nIn the first place it was a great pleasure to meet you personally and I was touched by the warm and loving way you approached us\, like a real brother\, travelling together with us along this path. The meditations were beautiful and especially the meditation of saturday evening\, in which I met Jeshua and danced with him around the campfire. I felt him so close to me\, so nearby and the memory makes me smile. It was a real deepening of my relationship with Jeshua. I felt very safe\, supported and cared for during the whole weekend\, by you and by the whole group.\n… Thank you so much. Much Love Ineke\n“ \n“\n… For me the retreat was in a way beyond words. It was like entering a field of oneness love and joy.\nDisappearing fear and allowing what is present.  Coming back in the “normal”world I felt more confident in being present. Also opened the question \, what is my role in any situation. What wants to express itself through me ?\nI feel grateful for all that’s happening\, your presence Paul \,the group around us\, the masters that reveal Christmind.\nLove\, Henk\n“ \n“\n… I am very grateful to have attended this retreat.It was very enriching\, profound and spiritual. My Christ-consciousness has definitely been nurtured.\nPaul\, you took me to beautiful places on the journeys during the meditations. I had the experience of oneness\, being absorbed in love\, like a warm blanket around me.\nThe spaces I was allowed to enter in my mind were wonderful\, very evocative\, light and symbolic…\nAnd being with a group of people who are like-minded and came to Loenen with the same goal is great!\nLove to you\, Hetty\n“
URL:https://staging.paths-to-christ.org/event/awakening-nurturing-embodying-christ-within-april24/
LOCATION:Center for Happiness / Centrum voor Geluk\, Lageweg 22\, Raalte\, NM 8101\, Netherlands
CATEGORIES:Retreats
GEO:52.3893378;6.2400285
X-APPLE-STRUCTURED-LOCATION;VALUE=URI;X-ADDRESS=Center for Happiness / Centrum voor Geluk Lageweg 22 Raalte NM 8101 Netherlands;X-APPLE-RADIUS=500;X-TITLE=Lageweg 22:geo:6.2400285,52.3893378
END:VEVENT
BEGIN:VEVENT
DTSTART;TZID=Europe/Berlin:20231103T150000
DTEND;TZID=Europe/Berlin:20231105T150000
DTSTAMP:20260422T041153
CREATED:20230819T131401Z
LAST-MODIFIED:20231206T160333Z
UID:10000551-1699023600-1699196400@staging.paths-to-christ.org
SUMMARY:Encounters with Christ Retreat
DESCRIPTION:This Encounters with Christ Retreat is an intimate and intensive format that i recieved about a year ago. The time is here to hold\, facilitate and experience this retreat format for the first time and to discover that which will be revealed to us in this way. \nThis is a very deep and expansive individual and group process inviting trust and surrender from participants. We will be meditating together\, going on Journeys into Christ Consciousness together and otherwise immersing ourselves in the Essence of Loving Awareness and allowing ourselves to be guided and inspired. \nThe limited spaces (4) for this Retreat in November 2023 are already filled. But if you are interested in participating in this type of retreat in future\, please contact me @Paul and let me know. If there is interest i can organise another event again soon after this one. \nMuch Love\,\nPaul \n 
URL:https://staging.paths-to-christ.org/event/encounters-with-christ-retreat/
CATEGORIES:Retreats
END:VEVENT
BEGIN:VEVENT
DTSTART;VALUE=DATE:20230625
DTEND;VALUE=DATE:20230702
DTSTAMP:20260422T041153
CREATED:20230419T083009Z
LAST-MODIFIED:20230620T133023Z
UID:10000539-1687651200-1688255999@staging.paths-to-christ.org
SUMMARY:Way of Mastery Retreat\, Deventer\, Netherlands
DESCRIPTION:Your host Jos Visser\, invites you to this Way of Mastery retreat at Ecostay De Wildernis in Wilp near Deventer\, Netherlands. \nPlease coordinate with Jos to reserve your camping spot in the Yurd\, Pipowagen\, covered wagon\, safari camper or Sibley tent or on the camping grounds. See link to Venue below. \nGuidance costs € 250. \nWe each cook our own meals or eat together – just as you like. \nProgram: morning T’ai chi with Ciaran and The Way of Mastery tailored to the participants. \nAfternoons alternating between study\, writing\, drawing\, painting\, meditation or Miracle Choice game. Maximum of 20 participants. \nPlease contact us for the detailed program. \nLook forward to seeing you there!
URL:https://staging.paths-to-christ.org/event/way-of-mastery-retreat-deventer-netherlands/
LOCATION:Ecostay De Wildernis\, Wilp\, Netherlands
CATEGORIES:Retreats,Way of Mastery
END:VEVENT
END:VCALENDAR