BEGIN:VCALENDAR
VERSION:2.0
PRODID:-//Paths to Christ Consciousness - ECPv6.15.12.2//NONSGML v1.0//EN
CALSCALE:GREGORIAN
METHOD:PUBLISH
X-WR-CALNAME:Paths to Christ Consciousness
X-ORIGINAL-URL:https://staging.paths-to-christ.org
X-WR-CALDESC:Events for Paths to Christ Consciousness
REFRESH-INTERVAL;VALUE=DURATION:PT1H
X-Robots-Tag:noindex
X-PUBLISHED-TTL:PT1H
BEGIN:VTIMEZONE
TZID:Europe/Berlin
BEGIN:DAYLIGHT
TZOFFSETFROM:+0100
TZOFFSETTO:+0200
TZNAME:CEST
DTSTART:20210328T010000
END:DAYLIGHT
BEGIN:STANDARD
TZOFFSETFROM:+0200
TZOFFSETTO:+0100
TZNAME:CET
DTSTART:20211031T010000
END:STANDARD
BEGIN:DAYLIGHT
TZOFFSETFROM:+0100
TZOFFSETTO:+0200
TZNAME:CEST
DTSTART:20220327T010000
END:DAYLIGHT
BEGIN:STANDARD
TZOFFSETFROM:+0200
TZOFFSETTO:+0100
TZNAME:CET
DTSTART:20221030T010000
END:STANDARD
BEGIN:DAYLIGHT
TZOFFSETFROM:+0100
TZOFFSETTO:+0200
TZNAME:CEST
DTSTART:20230326T010000
END:DAYLIGHT
BEGIN:STANDARD
TZOFFSETFROM:+0200
TZOFFSETTO:+0100
TZNAME:CET
DTSTART:20231029T010000
END:STANDARD
BEGIN:DAYLIGHT
TZOFFSETFROM:+0100
TZOFFSETTO:+0200
TZNAME:CEST
DTSTART:20240331T010000
END:DAYLIGHT
BEGIN:STANDARD
TZOFFSETFROM:+0200
TZOFFSETTO:+0100
TZNAME:CET
DTSTART:20241027T010000
END:STANDARD
END:VTIMEZONE
BEGIN:VEVENT
DTSTART;TZID=Europe/Berlin:20231001T080000
DTEND;TZID=Europe/Berlin:20231001T093000
DTSTAMP:20260421T230242
CREATED:20230928T173606Z
LAST-MODIFIED:20230929T080317Z
UID:10000556-1696147200-1696152600@staging.paths-to-christ.org
SUMMARY:Sunday Gathering - 1st Oktober 2023
DESCRIPTION:Dear Friends\, \nPlease find your invitation and link to next Sunday 1st October Gathering below. \nAs i am away with my family\, it was suggested that Annemarie could step up\, and she did! \nSo you will be graciously led by our sister Annemarie on Sunday. \nWishing you all a wonderful gathering. \nMuch Love\,\nPaul \n— \nAnnemarie van Unnik invites you to this planned meeting. \nDeelnemen Zoom Vergadering\nhttps://us02web.zoom.us/j/83093259224?pwd=akVjWG5BNlM0UGJFZkN4Y3FTSlUvUT09 \nVergadering-ID: 830 9325 9224\nWachtwoord: 402008
URL:https://staging.paths-to-christ.org/event/sunday-gathering-1st-october_2023/
LOCATION:Online – Zoom
CATEGORIES:Awakening Christ Within,Meditations,Meditations,Nurturing Christ Within
END:VEVENT
BEGIN:VEVENT
DTSTART;TZID=Europe/Berlin:20230924T080000
DTEND;TZID=Europe/Berlin:20230924T093000
DTSTAMP:20260421T230242
CREATED:20230923T101341Z
LAST-MODIFIED:20230923T190624Z
UID:10000555-1695542400-1695547800@staging.paths-to-christ.org
SUMMARY:Sunday Gathering - 24th September 2023
DESCRIPTION:Dear Friends\, \nPlease find your invitation and link to next Sunday 24th September Gathering below. \nLooking forward to seeing whoever i see on Sunday morning. \nMuch Love\,\nPaul \n—\nSunday Morning Gathering – 24th September 2023\nZeit: 24.Sept. 2023 08:00 AM Amsterdam\, Berlin\, Rom\, Stockholm\, Wien \nBeitreten Zoom Meeting\nhttps://us02web.zoom.us/j/88412877170?pwd=RXJkS05YeFRadHFxNy91U0FFd1lsZz09 \nMeeting-ID: 884 1287 7170\nKenncode: 141344
URL:https://staging.paths-to-christ.org/event/sunday-gathering-24th-september-2023/
LOCATION:Online – Zoom
CATEGORIES:Awakening Christ Within,Meditations,Meditations,Nurturing Christ Within
END:VEVENT
BEGIN:VEVENT
DTSTART;TZID=Europe/Berlin:20230917T080000
DTEND;TZID=Europe/Berlin:20230917T093000
DTSTAMP:20260421T230242
CREATED:20230915T104507Z
LAST-MODIFIED:20230915T104507Z
UID:10000554-1694937600-1694943000@staging.paths-to-christ.org
SUMMARY:Sunday Gathering - 17th September 2023
DESCRIPTION:Dear Friends\, \nPlease find your invitation and link to next Sundays 17th September Gathering below.\nI am not getting any specifics so it seems like there will be another general message.\nLooking forward to seeing whoever i see on Sunday morning. \nMuch Love\,\nPaul \n— \nSunday Morning Gathering 17th September 2023\nUhrzeit: 17.Sept. 2023 08:00 AM Amsterdam\, Berlin\, Rom\, Stockholm\, Wien \nZoom-Meeting beitreten\nhttps://us02web.zoom.us/j/83874964389?pwd=NFV3bng4VXBjOVNHbmlONUVJTWhlZz09 \nMeeting-ID: 838 7496 4389\nKenncode: 259903
URL:https://staging.paths-to-christ.org/event/sunday-gathering-17th-september-2023/
LOCATION:Online – Zoom
CATEGORIES:Awakening Christ Within,Meditations,Meditations,Nurturing Christ Within
END:VEVENT
BEGIN:VEVENT
DTSTART;TZID=Europe/Berlin:20230910T080000
DTEND;TZID=Europe/Berlin:20230910T093000
DTSTAMP:20260421T230242
CREATED:20230908T082240Z
LAST-MODIFIED:20230908T110458Z
UID:10000553-1694332800-1694338200@staging.paths-to-christ.org
SUMMARY:Sunday Gathering - 10th September 2023
DESCRIPTION:Dear Friends\, \nPlease find your invitation and link to next Sundays 10th September Gathering below.\nIt feels and seems like there will be another general message.\nLooking forward to seeing whoever i see on Sunday morning. \nMuch Love\,\nPaul \n—\nSunday Morning Gathering – 10th September 2023Time: 10.Sept. 2023 08:00 AM Amsterdam\, Berlin\, Rom\, Stockholm\, Wien \nZoom-Meetinghttps://us02web.zoom.us/j/82296254056?pwd=bU53eXhYYmt4eCtoNVdzNHBPSmhtdz09 \nMeeting-ID: 822 9625 4056Kenncode: 781926
URL:https://staging.paths-to-christ.org/event/sunday-gathering-10th-september-2023/
LOCATION:Online – Zoom
CATEGORIES:Awakening Christ Within,Meditations,Meditations,Nurturing Christ Within
END:VEVENT
BEGIN:VEVENT
DTSTART;TZID=Europe/Berlin:20230903T080000
DTEND;TZID=Europe/Berlin:20230903T093000
DTSTAMP:20260421T230242
CREATED:20230831T095438Z
LAST-MODIFIED:20230831T104625Z
UID:10000552-1693728000-1693733400@staging.paths-to-christ.org
SUMMARY:Sunday Gathering - 3rd September 2023
DESCRIPTION:Dear Friends\, \nthese last few nights have shown some rough outlines of what may be a message arising for next Sunday. So although it makes me nervous\, i feel called to annouce a Sunday Gathering for next Sunday the 3rd of September at 8am Berlin time. \nAs we have new members arriving into our group\, I am getting the distinct call to heartily invite both new and existing members to this gathering. I am not sure what is waiting for us\, but it feels like it will be for us all. \nPlease find the Invitation below. \nMuch Love\,\nPaul \nMeeting Invitation \nSunday Morning Gathering – Awaken and Nurture the Christ Within\nUhrzeit: 3.Sept. 2023 08:00 AM Amsterdam\, Berlin\, Rom\, Stockholm\, Wien \nZoom-Meeting beitreten\nhttps://us02web.zoom.us/j/85136841688?pwd=bndLRzJSQ2M4Vy92czcwZ1Z6SHl5dz09 \nMeeting-ID: 851 3684 1688\nKenncode: 137226
URL:https://staging.paths-to-christ.org/event/sunday-gathering-3rd-september-2023/
LOCATION:Online – Zoom
CATEGORIES:Awakening Christ Within,Meditations,Meditations,Nurturing Christ Within
END:VEVENT
BEGIN:VEVENT
DTSTART;VALUE=DATE:20230625
DTEND;VALUE=DATE:20230702
DTSTAMP:20260421T230242
CREATED:20230419T083009Z
LAST-MODIFIED:20230620T133023Z
UID:10000539-1687651200-1688255999@staging.paths-to-christ.org
SUMMARY:Way of Mastery Retreat\, Deventer\, Netherlands
DESCRIPTION:Your host Jos Visser\, invites you to this Way of Mastery retreat at Ecostay De Wildernis in Wilp near Deventer\, Netherlands. \nPlease coordinate with Jos to reserve your camping spot in the Yurd\, Pipowagen\, covered wagon\, safari camper or Sibley tent or on the camping grounds. See link to Venue below. \nGuidance costs € 250. \nWe each cook our own meals or eat together – just as you like. \nProgram: morning T’ai chi with Ciaran and The Way of Mastery tailored to the participants. \nAfternoons alternating between study\, writing\, drawing\, painting\, meditation or Miracle Choice game. Maximum of 20 participants. \nPlease contact us for the detailed program. \nLook forward to seeing you there!
URL:https://staging.paths-to-christ.org/event/way-of-mastery-retreat-deventer-netherlands/
LOCATION:Ecostay De Wildernis\, Wilp\, Netherlands
CATEGORIES:Retreats,Way of Mastery
END:VEVENT
BEGIN:VEVENT
DTSTART;TZID=Europe/Berlin:20230416T170000
DTEND;TZID=Europe/Berlin:20230416T183000
DTSTAMP:20260421T230242
CREATED:20221213T154924Z
LAST-MODIFIED:20230418T112519Z
UID:10000278-1681664400-1681669800@staging.paths-to-christ.org
SUMMARY:Nurturing Christ Within: Weekly Meditation
DESCRIPTION:Nurturing Christ Within\, weekly meditation.
URL:https://staging.paths-to-christ.org/event/ncw-weekly-meditation/2023-04-16/
CATEGORIES:Meditations,Nurturing Christ Within
LOCATION:https://staging.paths-to-christ.org/event/ncw-weekly-meditation/2023-04-16/
END:VEVENT
BEGIN:VEVENT
DTSTART;TZID=Europe/Berlin:20230416T080000
DTEND;TZID=Europe/Berlin:20230416T100000
DTSTAMP:20260421T230242
CREATED:20230416T080033Z
LAST-MODIFIED:20230523T144832Z
UID:10000548-1681632000-1681639200@staging.paths-to-christ.org
SUMMARY:Invitation\, Nurturing Christ Within\, 16th April 2023
DESCRIPTION:Dear Friends\, \nyou are invited to this next Sunday meditation. \nMuch love\, \nPaul
URL:https://staging.paths-to-christ.org/event/invitation-nurturing-christ-within-16th-april-2023/
CATEGORIES:Meditations,Nurturing Christ Within
END:VEVENT
BEGIN:VEVENT
DTSTART;TZID=Europe/Berlin:20230409T170000
DTEND;TZID=Europe/Berlin:20230409T183000
DTSTAMP:20260421T230242
CREATED:20221213T154924Z
LAST-MODIFIED:20230418T112519Z
UID:10000277-1681059600-1681065000@staging.paths-to-christ.org
SUMMARY:Nurturing Christ Within: Weekly Meditation
DESCRIPTION:Nurturing Christ Within\, weekly meditation.
URL:https://staging.paths-to-christ.org/event/ncw-weekly-meditation/2023-04-09/
CATEGORIES:Meditations,Nurturing Christ Within
LOCATION:https://staging.paths-to-christ.org/event/ncw-weekly-meditation/2023-04-09/
END:VEVENT
BEGIN:VEVENT
DTSTART;TZID=Europe/Berlin:20230409T080000
DTEND;TZID=Europe/Berlin:20230409T100000
DTSTAMP:20260421T230242
CREATED:20230409T080054Z
LAST-MODIFIED:20230523T144857Z
UID:10000547-1681027200-1681034400@staging.paths-to-christ.org
SUMMARY:Invitation\, Nurturing Christ Within\, 9th April 2023
DESCRIPTION:Dear Friends\, \nyou are invited to this next Sunday meditation. \nMuch love\, \nPaul
URL:https://staging.paths-to-christ.org/event/invitation-nurturing-christ-within-9th-april-2023/
CATEGORIES:Meditations,Nurturing Christ Within
END:VEVENT
BEGIN:VEVENT
DTSTART;TZID=Europe/Berlin:20230402T170000
DTEND;TZID=Europe/Berlin:20230402T183000
DTSTAMP:20260421T230242
CREATED:20221213T154924Z
LAST-MODIFIED:20230418T112519Z
UID:10000276-1680454800-1680460200@staging.paths-to-christ.org
SUMMARY:Nurturing Christ Within: Weekly Meditation
DESCRIPTION:Nurturing Christ Within\, weekly meditation.
URL:https://staging.paths-to-christ.org/event/ncw-weekly-meditation/2023-04-02/
CATEGORIES:Meditations,Nurturing Christ Within
LOCATION:https://staging.paths-to-christ.org/event/ncw-weekly-meditation/2023-04-02/
END:VEVENT
BEGIN:VEVENT
DTSTART;TZID=Europe/Berlin:20230402T080000
DTEND;TZID=Europe/Berlin:20230402T100000
DTSTAMP:20260421T230242
CREATED:20230402T080012Z
LAST-MODIFIED:20230523T144937Z
UID:10000542-1680422400-1680429600@staging.paths-to-christ.org
SUMMARY:Invitation\, Nurturing Christ Within\, 2nd April 2023
DESCRIPTION:Dear Friends\, \nyou are invited to this next Sunday meditation. \nMuch love\, \nPaul
URL:https://staging.paths-to-christ.org/event/invitation-nurturing-christ-within-2nd-april-2023/
CATEGORIES:Meditations,Nurturing Christ Within
END:VEVENT
BEGIN:VEVENT
DTSTART;TZID=Europe/Berlin:20230326T080000
DTEND;TZID=Europe/Berlin:20230326T100000
DTSTAMP:20260421T230242
CREATED:20230326T080019Z
LAST-MODIFIED:20230523T145009Z
UID:10000541-1679817600-1679824800@staging.paths-to-christ.org
SUMMARY:Invitation\, Nurturing Christ Within\, 26th March 2023
DESCRIPTION:Dear Friends\, \nyou are invited to this next Sunday meditation. \nMuch love\, \nPaul
URL:https://staging.paths-to-christ.org/event/invitation-nurturing-christ-within-26th-march-2023/
CATEGORIES:Meditations,Nurturing Christ Within
END:VEVENT
BEGIN:VEVENT
DTSTART;TZID=Europe/Berlin:20230326T080000
DTEND;TZID=Europe/Berlin:20230326T100000
DTSTAMP:20260421T230242
CREATED:20230205T090038Z
LAST-MODIFIED:20230523T145136Z
UID:10000275-1679817600-1679824800@staging.paths-to-christ.org
SUMMARY:Invitation\, Nurturing Christ Within\, 5th February 2023
DESCRIPTION:Dear Friends\, \nYou are invited to the Sunday meditation on the 5th of February 2023. \nMuch love\, \nPaul
URL:https://staging.paths-to-christ.org/event/invitation-nurturing-christ-within-5th-february-2023/
CATEGORIES:Meditations,Nurturing Christ Within
END:VEVENT
BEGIN:VEVENT
DTSTART;TZID=Europe/Berlin:20230319T080000
DTEND;TZID=Europe/Berlin:20230319T100000
DTSTAMP:20260421T230242
CREATED:20230319T090043Z
LAST-MODIFIED:20230523T145205Z
UID:10000540-1679212800-1679220000@staging.paths-to-christ.org
SUMMARY:Invitation\,Nurturing Christ Within\, 19th March 2023
DESCRIPTION:Dear Friends\, \nyou are invited to this Sunday meditation. \nMuch love\, \nPaul
URL:https://staging.paths-to-christ.org/event/invitation-nurturing-christ-within-19th-march-2023/
CATEGORIES:Meditations,Nurturing Christ Within
END:VEVENT
BEGIN:VEVENT
DTSTART;TZID=Europe/Berlin:20230312T170000
DTEND;TZID=Europe/Berlin:20230312T183000
DTSTAMP:20260421T230242
CREATED:20221213T154924Z
LAST-MODIFIED:20230418T112519Z
UID:10000273-1678640400-1678645800@staging.paths-to-christ.org
SUMMARY:Nurturing Christ Within: Weekly Meditation
DESCRIPTION:Nurturing Christ Within\, weekly meditation.
URL:https://staging.paths-to-christ.org/event/ncw-weekly-meditation/2023-03-12/
CATEGORIES:Meditations,Nurturing Christ Within
LOCATION:https://staging.paths-to-christ.org/event/ncw-weekly-meditation/2023-03-12/
END:VEVENT
BEGIN:VEVENT
DTSTART;TZID=Europe/Berlin:20230305T170000
DTEND;TZID=Europe/Berlin:20230305T183000
DTSTAMP:20260421T230242
CREATED:20221213T154924Z
LAST-MODIFIED:20230418T112519Z
UID:10000272-1678035600-1678041000@staging.paths-to-christ.org
SUMMARY:Nurturing Christ Within: Weekly Meditation
DESCRIPTION:Nurturing Christ Within\, weekly meditation.
URL:https://staging.paths-to-christ.org/event/ncw-weekly-meditation/2023-03-05/
CATEGORIES:Meditations,Nurturing Christ Within
LOCATION:https://staging.paths-to-christ.org/event/ncw-weekly-meditation/2023-03-05/
END:VEVENT
BEGIN:VEVENT
DTSTART;TZID=Europe/Berlin:20230129T080000
DTEND;TZID=Europe/Berlin:20230129T100000
DTSTAMP:20260421T230242
CREATED:20230129T090011Z
LAST-MODIFIED:20230523T145235Z
UID:10000274-1674979200-1674986400@staging.paths-to-christ.org
SUMMARY:Invitation\, Nurturing Christ Within\, 29th January 2023
DESCRIPTION:Dear Friends\, \nyou are invited to this Sunday meditation. \nMuch love\, \nPaul
URL:https://staging.paths-to-christ.org/event/invitation-nurturing-christ-within-29th-january-2023/
CATEGORIES:Meditations,Nurturing Christ Within
END:VEVENT
BEGIN:VEVENT
DTSTART;TZID=Europe/Berlin:20230122T080000
DTEND;TZID=Europe/Berlin:20230122T100000
DTSTAMP:20260421T230242
CREATED:20230122T090050Z
LAST-MODIFIED:20230523T145256Z
UID:10000268-1674374400-1674381600@staging.paths-to-christ.org
SUMMARY:Invitation\, Nurturing Christ Within\, 22nd January 2023
DESCRIPTION:Dear Friends\, \nyou are invited to this Sunday meditation. \nMuch love\, \nPaul \n 
URL:https://staging.paths-to-christ.org/event/invitation-nurturing-christ-within-22-january-2023/
CATEGORIES:Meditations,Nurturing Christ Within
END:VEVENT
BEGIN:VEVENT
DTSTART;TZID=Europe/Berlin:20230115T080000
DTEND;TZID=Europe/Berlin:20230115T100000
DTSTAMP:20260421T230242
CREATED:20230115T090020Z
LAST-MODIFIED:20230523T145321Z
UID:10000267-1673769600-1673776800@staging.paths-to-christ.org
SUMMARY:Invitation\, Nurturing Christ Within\, 15th January 2023
DESCRIPTION:Dear Friends\, \nyou are invited to this Sunday meditation. \nMuch love\, \nPaul
URL:https://staging.paths-to-christ.org/event/invitation-nurturing-christ-within-15th-jan-2023/
CATEGORIES:Meditations,Nurturing Christ Within
END:VEVENT
BEGIN:VEVENT
DTSTART;TZID=Europe/Berlin:20230108T080000
DTEND;TZID=Europe/Berlin:20230108T100000
DTSTAMP:20260421T230242
CREATED:20230108T090026Z
LAST-MODIFIED:20230523T145347Z
UID:10000266-1673164800-1673172000@staging.paths-to-christ.org
SUMMARY:Invitation\, Nurturing Christ Within\, 8th January 2023
DESCRIPTION:Dear Friends\, \nyou are invited to this Sunday meditation. \nMuch love\, \nPaul
URL:https://staging.paths-to-christ.org/event/invitation-nurturing-christ-within-8th-jan-2023/
CATEGORIES:Meditations,Nurturing Christ Within
END:VEVENT
BEGIN:VEVENT
DTSTART;TZID=Europe/Berlin:20221218T080000
DTEND;TZID=Europe/Berlin:20221218T100000
DTSTAMP:20260421T230242
CREATED:20230310T143159Z
LAST-MODIFIED:20230523T145422Z
UID:10000265-1671350400-1671357600@staging.paths-to-christ.org
SUMMARY:Invitation\, Nurturing Christ Within\, 18th December 2022
DESCRIPTION:Dear Friends\, \nyou are invited to this Sunday meditation. \nMuch love\, \nPaul
URL:https://staging.paths-to-christ.org/event/invitation-nurturing-christ-within-18th-december-23/
CATEGORIES:Meditations,Nurturing Christ Within
END:VEVENT
BEGIN:VEVENT
DTSTART;TZID=Europe/Berlin:20221204T080000
DTEND;TZID=Europe/Berlin:20221204T100000
DTSTAMP:20260421T230242
CREATED:20231204T090006Z
LAST-MODIFIED:20230523T145525Z
UID:10000264-1670140800-1670148000@staging.paths-to-christ.org
SUMMARY:Invitation\, Nurturing Christ Within\, 4th December 2022
DESCRIPTION:Dear Friends\, \nyou are invited to this Sunday meditation. \nMuch love\, \nPaul
URL:https://staging.paths-to-christ.org/event/invitation-nurturing-christ-within-4th-december-22/
CATEGORIES:Meditations,Nurturing Christ Within
END:VEVENT
BEGIN:VEVENT
DTSTART;TZID=Europe/Berlin:20221127T080000
DTEND;TZID=Europe/Berlin:20221127T100000
DTSTAMP:20260421T230242
CREATED:20221127T090059Z
LAST-MODIFIED:20230523T145558Z
UID:10000533-1669536000-1669543200@staging.paths-to-christ.org
SUMMARY:Invitation\, Nurturing Christ Within\, 27th November 2022
DESCRIPTION:Dear Friends\, \nyou are invited to this Sunday meditation. \nMuch love\, \nPaul
URL:https://staging.paths-to-christ.org/event/invitation-nurturing-christ-within-27th-november-2022/
CATEGORIES:Meditations,Nurturing Christ Within
END:VEVENT
BEGIN:VEVENT
DTSTART;TZID=Europe/Berlin:20221120T080000
DTEND;TZID=Europe/Berlin:20221120T100000
DTSTAMP:20260421T230242
CREATED:20221120T090020Z
LAST-MODIFIED:20230523T145627Z
UID:10000534-1668931200-1668938400@staging.paths-to-christ.org
SUMMARY:Invitation\, Nurturing Christ Within\, 20th November 2022
DESCRIPTION:Dear Friends\, \nyou are invited to this Sunday meditation. \nMuch love\, \nPaul
URL:https://staging.paths-to-christ.org/event/invitation-nurturing-christ-within-20th-november-2022/
CATEGORIES:Meditations,Nurturing Christ Within
END:VEVENT
BEGIN:VEVENT
DTSTART;TZID=Europe/Berlin:20221120T080000
DTEND;TZID=Europe/Berlin:20221120T100000
DTSTAMP:20260421T230242
CREATED:20221106T090018Z
LAST-MODIFIED:20230523T145656Z
UID:10000531-1668931200-1668938400@staging.paths-to-christ.org
SUMMARY:Invitation\, Nurturing Christ Within\, 6th November 2022
DESCRIPTION:Dear Friends\, \nyou are invited to this Sunday meditation. \nMuch love\, \nPaul
URL:https://staging.paths-to-christ.org/event/invitation-nurturing-christ-within-6th-november-2022/
CATEGORIES:Meditations,Nurturing Christ Within
END:VEVENT
BEGIN:VEVENT
DTSTART;TZID=Europe/Berlin:20221113T080000
DTEND;TZID=Europe/Berlin:20221113T100000
DTSTAMP:20260421T230242
CREATED:20221113T090022Z
LAST-MODIFIED:20230523T145715Z
UID:10000532-1668326400-1668333600@staging.paths-to-christ.org
SUMMARY:Invitation\, Nurturing Christ Within\, 13th November 2022
DESCRIPTION:Dear Friends\, \nyou are invited to this Sunday meditation. \nMuch love\, \nPaul
URL:https://staging.paths-to-christ.org/event/invitation-nurturing-christ-within-13th-november-2022/
CATEGORIES:Meditations,Nurturing Christ Within
END:VEVENT
BEGIN:VEVENT
DTSTART;TZID=Europe/Berlin:20221009T080000
DTEND;TZID=Europe/Berlin:20221009T100000
DTSTAMP:20260421T230242
CREATED:20231009T080046Z
LAST-MODIFIED:20230523T145738Z
UID:10000530-1665302400-1665309600@staging.paths-to-christ.org
SUMMARY:Invitation\, Nurturing Christ Within\, 9th October 2022
DESCRIPTION:Dear Friends\, \nyou are invited to this Sunday meditation. \nMuch love\, \nPaul
URL:https://staging.paths-to-christ.org/event/invitation-nurturing-christ-within-9th-october-2022/
CATEGORIES:Meditations,Nurturing Christ Within
END:VEVENT
BEGIN:VEVENT
DTSTART;TZID=Europe/Berlin:20221002T080000
DTEND;TZID=Europe/Berlin:20221002T100000
DTSTAMP:20260421T230242
CREATED:20231002T080002Z
LAST-MODIFIED:20230523T145808Z
UID:10000543-1664697600-1664704800@staging.paths-to-christ.org
SUMMARY:Invitation\, Nurturing Christ Within\, 2nd October 2022
DESCRIPTION:Dear Friends\, \nyou are invited to this Sunday meditation. \nMuch love\, \nPaul
URL:https://staging.paths-to-christ.org/event/invitation-nurturing-christ-within-2nd-october-2022/
CATEGORIES:Meditations,Nurturing Christ Within
END:VEVENT
BEGIN:VEVENT
DTSTART;TZID=Europe/Berlin:20220918T063000
DTEND;TZID=Europe/Berlin:20220918T203000
DTSTAMP:20260421T230242
CREATED:20220918T080007Z
LAST-MODIFIED:20230523T150056Z
UID:10000270-1663482600-1663533000@staging.paths-to-christ.org
SUMMARY:Invitation\, Nurturing Christ Within\, 18th September 2022
DESCRIPTION:Dear Friends\, \nplease find below the next mediation message from the Sunday the 18th of September 2022. \nEnjoy! \nMuch love\, \nPaul
URL:https://staging.paths-to-christ.org/event/invitation-nurturing-christ-within-18th-september-22/
CATEGORIES:Meditations,Nurturing Christ Within
END:VEVENT
END:VCALENDAR