BEGIN:VCALENDAR
VERSION:2.0
PRODID:-//Paths to Christ Consciousness - ECPv6.15.12.2//NONSGML v1.0//EN
CALSCALE:GREGORIAN
METHOD:PUBLISH
X-ORIGINAL-URL:https://staging.paths-to-christ.org
X-WR-CALDESC:Events for Paths to Christ Consciousness
REFRESH-INTERVAL;VALUE=DURATION:PT1H
X-Robots-Tag:noindex
X-PUBLISHED-TTL:PT1H
BEGIN:VTIMEZONE
TZID:Europe/Berlin
BEGIN:DAYLIGHT
TZOFFSETFROM:+0100
TZOFFSETTO:+0200
TZNAME:CEST
DTSTART:20200329T010000
END:DAYLIGHT
BEGIN:STANDARD
TZOFFSETFROM:+0200
TZOFFSETTO:+0100
TZNAME:CET
DTSTART:20201025T010000
END:STANDARD
BEGIN:DAYLIGHT
TZOFFSETFROM:+0100
TZOFFSETTO:+0200
TZNAME:CEST
DTSTART:20210328T010000
END:DAYLIGHT
BEGIN:STANDARD
TZOFFSETFROM:+0200
TZOFFSETTO:+0100
TZNAME:CET
DTSTART:20211031T010000
END:STANDARD
BEGIN:DAYLIGHT
TZOFFSETFROM:+0100
TZOFFSETTO:+0200
TZNAME:CEST
DTSTART:20220327T010000
END:DAYLIGHT
BEGIN:STANDARD
TZOFFSETFROM:+0200
TZOFFSETTO:+0100
TZNAME:CET
DTSTART:20221030T010000
END:STANDARD
BEGIN:DAYLIGHT
TZOFFSETFROM:+0100
TZOFFSETTO:+0200
TZNAME:CEST
DTSTART:20230326T010000
END:DAYLIGHT
BEGIN:STANDARD
TZOFFSETFROM:+0200
TZOFFSETTO:+0100
TZNAME:CET
DTSTART:20231029T010000
END:STANDARD
END:VTIMEZONE
BEGIN:VEVENT
DTSTART;TZID=Europe/Berlin:20221120T080000
DTEND;TZID=Europe/Berlin:20221120T100000
DTSTAMP:20260422T020411
CREATED:20221120T090020Z
LAST-MODIFIED:20230523T145627Z
UID:10000534-1668931200-1668938400@staging.paths-to-christ.org
SUMMARY:Invitation\, Nurturing Christ Within\, 20th November 2022
DESCRIPTION:Dear Friends\, \nyou are invited to this Sunday meditation. \nMuch love\, \nPaul
URL:https://staging.paths-to-christ.org/event/invitation-nurturing-christ-within-20th-november-2022/
CATEGORIES:Meditations,Nurturing Christ Within
END:VEVENT
BEGIN:VEVENT
DTSTART;TZID=Europe/Berlin:20221120T080000
DTEND;TZID=Europe/Berlin:20221120T100000
DTSTAMP:20260422T020411
CREATED:20221106T090018Z
LAST-MODIFIED:20230523T145656Z
UID:10000531-1668931200-1668938400@staging.paths-to-christ.org
SUMMARY:Invitation\, Nurturing Christ Within\, 6th November 2022
DESCRIPTION:Dear Friends\, \nyou are invited to this Sunday meditation. \nMuch love\, \nPaul
URL:https://staging.paths-to-christ.org/event/invitation-nurturing-christ-within-6th-november-2022/
CATEGORIES:Meditations,Nurturing Christ Within
END:VEVENT
BEGIN:VEVENT
DTSTART;TZID=Europe/Berlin:20221113T080000
DTEND;TZID=Europe/Berlin:20221113T100000
DTSTAMP:20260422T020411
CREATED:20221113T090022Z
LAST-MODIFIED:20230523T145715Z
UID:10000532-1668326400-1668333600@staging.paths-to-christ.org
SUMMARY:Invitation\, Nurturing Christ Within\, 13th November 2022
DESCRIPTION:Dear Friends\, \nyou are invited to this Sunday meditation. \nMuch love\, \nPaul
URL:https://staging.paths-to-christ.org/event/invitation-nurturing-christ-within-13th-november-2022/
CATEGORIES:Meditations,Nurturing Christ Within
END:VEVENT
BEGIN:VEVENT
DTSTART;TZID=Europe/Berlin:20221009T080000
DTEND;TZID=Europe/Berlin:20221009T100000
DTSTAMP:20260422T020411
CREATED:20231009T080046Z
LAST-MODIFIED:20230523T145738Z
UID:10000530-1665302400-1665309600@staging.paths-to-christ.org
SUMMARY:Invitation\, Nurturing Christ Within\, 9th October 2022
DESCRIPTION:Dear Friends\, \nyou are invited to this Sunday meditation. \nMuch love\, \nPaul
URL:https://staging.paths-to-christ.org/event/invitation-nurturing-christ-within-9th-october-2022/
CATEGORIES:Meditations,Nurturing Christ Within
END:VEVENT
BEGIN:VEVENT
DTSTART;TZID=Europe/Berlin:20221002T080000
DTEND;TZID=Europe/Berlin:20221002T100000
DTSTAMP:20260422T020411
CREATED:20231002T080002Z
LAST-MODIFIED:20230523T145808Z
UID:10000543-1664697600-1664704800@staging.paths-to-christ.org
SUMMARY:Invitation\, Nurturing Christ Within\, 2nd October 2022
DESCRIPTION:Dear Friends\, \nyou are invited to this Sunday meditation. \nMuch love\, \nPaul
URL:https://staging.paths-to-christ.org/event/invitation-nurturing-christ-within-2nd-october-2022/
CATEGORIES:Meditations,Nurturing Christ Within
END:VEVENT
BEGIN:VEVENT
DTSTART;TZID=Europe/Berlin:20220918T063000
DTEND;TZID=Europe/Berlin:20220918T203000
DTSTAMP:20260422T020411
CREATED:20220918T080007Z
LAST-MODIFIED:20230523T150056Z
UID:10000270-1663482600-1663533000@staging.paths-to-christ.org
SUMMARY:Invitation\, Nurturing Christ Within\, 18th September 2022
DESCRIPTION:Dear Friends\, \nplease find below the next mediation message from the Sunday the 18th of September 2022. \nEnjoy! \nMuch love\, \nPaul
URL:https://staging.paths-to-christ.org/event/invitation-nurturing-christ-within-18th-september-22/
CATEGORIES:Meditations,Nurturing Christ Within
END:VEVENT
BEGIN:VEVENT
DTSTART;VALUE=DATE:20220828
DTEND;VALUE=DATE:20220829
DTSTAMP:20260422T020411
CREATED:20220828T080025Z
LAST-MODIFIED:20230523T150135Z
UID:10000003-1661644800-1661731199@staging.paths-to-christ.org
SUMMARY:Invitation\, Nurturing Christ Within\, 28th August 2022
DESCRIPTION:Dear Friends\, \nplease find below the next mediation message from the Sunday the 28th of August 2022 \nEnjoy! \nMuch love\, \nPaul
URL:https://staging.paths-to-christ.org/event/invitation-nurturing-christ-within-28th-august-22/
CATEGORIES:Meditations,Nurturing Christ Within
END:VEVENT
BEGIN:VEVENT
DTSTART;TZID=Europe/Berlin:20220807T063000
DTEND;TZID=Europe/Berlin:20220807T083000
DTSTAMP:20260422T020411
CREATED:20220807T114228Z
LAST-MODIFIED:20230523T150204Z
UID:10000269-1659853800-1659861000@staging.paths-to-christ.org
SUMMARY:Invitation\, Nurturing Christ Within\, 7th August 2022
DESCRIPTION:Dear Friends\, \nyou are invited to this Sunday meditation. \nMuch love\, \nPaul
URL:https://staging.paths-to-christ.org/event/invitation-nurturing-christ-within-weekly-7th-august-22/
CATEGORIES:Meditations,Nurturing Christ Within
END:VEVENT
BEGIN:VEVENT
DTSTART;VALUE=DATE:20220703
DTEND;VALUE=DATE:20220704
DTSTAMP:20260422T020411
CREATED:20230703T080019Z
LAST-MODIFIED:20230706T171430Z
UID:10000529-1656806400-1656892799@staging.paths-to-christ.org
SUMMARY:Invitation\, Nurturing Christ Within\, 3rd July 2022
DESCRIPTION:Dear Friends\, \nplease find below the next mediation message from the Sunday the 3rd of July 2022 \nEnjoy! \nMuch love\, Paul
URL:https://staging.paths-to-christ.org/event/invitation-nurturing-christ-within-3rd-july-2022/
CATEGORIES:Meditations,Nurturing Christ Within
END:VEVENT
BEGIN:VEVENT
DTSTART;VALUE=DATE:20220619
DTEND;VALUE=DATE:20220620
DTSTAMP:20260422T020411
CREATED:20220619T080042Z
LAST-MODIFIED:20230523T150306Z
UID:10000528-1655596800-1655683199@staging.paths-to-christ.org
SUMMARY:Invitation\,  Nurturing Christ Within\, 19th June 2022
DESCRIPTION:Dear Friends\, \nThis marks the event of the first meditation message of the Nurturing Christ Within series. \nEnjoy! \nMuch love\, Paul
URL:https://staging.paths-to-christ.org/event/invitation-nurturing-christ-within-19th-june-2022/
CATEGORIES:Meditations,Nurturing Christ Within
END:VEVENT
BEGIN:VEVENT
DTSTART;VALUE=DATE:20211225
DTEND;VALUE=DATE:20211226
DTSTAMP:20260422T020411
CREATED:20211225T190058Z
LAST-MODIFIED:20230523T150356Z
UID:10000526-1640390400-1640476799@staging.paths-to-christ.org
SUMMARY:Awakening Christ Within\, 25th December 2021
DESCRIPTION:Dear Friends\, \nhere the event where the 3rd Mediation Message of this trilogy came through in the early hours of the 25th December 2021. \nEnjoy! \nMuch love\, Paul
URL:https://staging.paths-to-christ.org/event/awakening-christ-within-3-message-from-25th-december-2021/
CATEGORIES:Awakening Christ Within,Meditations
END:VEVENT
BEGIN:VEVENT
DTSTART;VALUE=DATE:20211223
DTEND;VALUE=DATE:20211224
DTSTAMP:20260422T020411
CREATED:20221223T190052Z
LAST-MODIFIED:20230523T150419Z
UID:10000527-1640217600-1640303999@staging.paths-to-christ.org
SUMMARY:Awakening Christ Within\, 23rd December 2021
DESCRIPTION:Dear Friends\, \nhere is the event  where the 2nd Mediation Message that came through on the night of the 23rd December 2021. \nMuch love\, Paul
URL:https://staging.paths-to-christ.org/event/awakening-christ-within-2-message-from-23rd-december-2021/
CATEGORIES:Awakening Christ Within,Meditations
END:VEVENT
BEGIN:VEVENT
DTSTART;VALUE=DATE:20211221
DTEND;VALUE=DATE:20211222
DTSTAMP:20260422T020411
CREATED:20211221T190048Z
LAST-MODIFIED:20230523T150501Z
UID:10000525-1640044800-1640131199@staging.paths-to-christ.org
SUMMARY:Awakening Christ Within\,The Solstice Gathering
DESCRIPTION:Dear Friends\, \nthis is the event on which the very first Message that came through on the 21st of December 2021 during a group meditation that i found myself leading. Much love\, Paul
URL:https://staging.paths-to-christ.org/event/awakening-christ-within-21st-december-2021/
CATEGORIES:Awakening Christ Within,Meditations
END:VEVENT
END:VCALENDAR